BEGIN:VCALENDAR
VERSION:2.0
PRODID:-//wp-events-plugin.com//7.2.3.1//EN
TZID:Europe/London
X-WR-TIMEZONE:Europe/London
BEGIN:VEVENT
UID:4@west-lothian-danceworld.co.uk
DTSTART;TZID=Europe/London:20250518T090000
DTEND;TZID=Europe/London:20250518T170000
DTSTAMP:20250410T140204Z
URL:https://www.west-lothian-danceworld.co.uk/events/jamfest/
SUMMARY:Jamfest
DESCRIPTION:
CATEGORIES:Competitions
END:VEVENT
BEGIN:VTIMEZONE
TZID:Europe/London
X-LIC-LOCATION:Europe/London
BEGIN:DAYLIGHT
DTSTART:20250330T020000
TZOFFSETFROM:+0000
TZOFFSETTO:+0100
TZNAME:BST
END:DAYLIGHT
END:VTIMEZONE
END:VCALENDAR