BEGIN:VCALENDAR
VERSION:2.0
PRODID:-//wp-events-plugin.com//7.2.3.1//EN
TZID:Europe/London
X-WR-TIMEZONE:Europe/London
BEGIN:VEVENT
UID:1@west-lothian-danceworld.co.uk
DTSTART;TZID=Europe/London:20250427T090000
DTEND;TZID=Europe/London:20250427T170000
DTSTAMP:20250410T135801Z
URL:https://www.west-lothian-danceworld.co.uk/events/illusion-competition/
SUMMARY:Illusion competition
DESCRIPTION:
CATEGORIES:Competitions
LOCATION:Manchester\, A street\, Manchester\, United Kingdom
X-APPLE-STRUCTURED-LOCATION;VALUE=URI;X-ADDRESS=A street\, Manchester\, Uni
 ted Kingdom;X-APPLE-RADIUS=100;X-TITLE=Manchester:geo:0,0
END:VEVENT
BEGIN:VTIMEZONE
TZID:Europe/London
X-LIC-LOCATION:Europe/London
BEGIN:DAYLIGHT
DTSTART:20250330T020000
TZOFFSETFROM:+0000
TZOFFSETTO:+0100
TZNAME:BST
END:DAYLIGHT
END:VTIMEZONE
END:VCALENDAR