BEGIN:VCALENDAR
VERSION:2.0
PRODID:-//wp-events-plugin.com//7.2.3.1//EN
TZID:Europe/London
X-WR-TIMEZONE:Europe/London
BEGIN:VEVENT
UID:3@west-lothian-danceworld.co.uk
DTSTART;TZID=Europe/London:20250504T090000
DTEND;TZID=Europe/London:20250504T170000
DTSTAMP:20250410T135942Z
URL:https://www.west-lothian-danceworld.co.uk/events/aaron-dwyer/
SUMMARY:Aaron Dwyer 
DESCRIPTION:
CATEGORIES:Competitions
END:VEVENT
BEGIN:VTIMEZONE
TZID:Europe/London
X-LIC-LOCATION:Europe/London
BEGIN:DAYLIGHT
DTSTART:20250330T020000
TZOFFSETFROM:+0000
TZOFFSETTO:+0100
TZNAME:BST
END:DAYLIGHT
END:VTIMEZONE
END:VCALENDAR